View In:
  ArcGIS JavaScript
  ArcGIS.com Map
  Google Earth
  ArcMap
View Footprint In:
  ArcGIS.com Map
Service Description:  
Name:  RAPIDEYE/RapidEye2011 
Description:  RAPIDEYE/RapidEye2011 
Single Fused Map Cache:  false
Extent: 
XMin: -61.65593884306348
YMin: -18.090072946947927
XMax: -50.154235834680016
YMax: -7.310540623013141
Spatial Reference: 4674
 (4674)
 
Initial Extent: 
XMin: -61.65593884306348
YMin: -18.090072946947927
XMax: -50.154235834680016
YMax: -7.310540623013141
Spatial Reference: 4674
 (4674)
 
Full Extent: 
XMin: -61.65593884306348
YMin: -18.090072946947927
XMax: -50.154235834680016
YMax: -7.310540623013141
Spatial Reference: 4674
 (4674)
 
Pixel Size X:  4.721049070453673E-5 
Pixel Size Y:  4.5256023863028614E-5 
Band Count: 3
Pixel Type: U8
RasterFunction Infos:  N/A 
Mensuration Capabilities: Basic
Has Histograms:  true
Has Colormap:  false
Min Scale:  0
Max Scale:  0
Copyright Text:  "Inclui material © (2011) RapidEye AG, Alemanha. Todos os direitos reservados" 
Service Data Type:  esriImageServiceDataTypeRGB 
Min Values:  1, 1, 1 
Max Values:  255, 255, 255 
Mean Values:  93.035041517232, 104.19181437107, 101.69836293958 
Standard Deviation Values:  72.417070091173, 66.66123050665, 65.119525839246 
Object ID Field:  
Fields: 
None
Raster Attribute Table:  false 
Default Mosaic Method:  Center 
Allowed Mosaic Methods:  
SortField:  
SortValue:  null 
Mosaic Operator:  First 
Default Compression Quality:  75 
Default Resampling Method:  Bilinear 
Max Record Count:  null 
Max Image Height:  4100 
Max Image Width:  15000 
Max Download Image Count:  null 
Max Mosaic Image Count:  null 
Allow Raster Function:  true 
Raster Type Infos: 
Name: Raster Dataset
Description: Supports all ArcGIS Raster Datasets
Help: 
Has Raster Attribute Table:  false 
Edit Fields Info:  null 
Ownership Based AccessControl For Rasters:  null 
Child Resources:
  
Info
  Histograms
  Key Properties
Supported Operations:
  
Export Image
  Identify
  Measure
  Compute Histograms