{
 "currentVersion": 10.11,
 "serviceDescription": "",
 "name": "RAPIDEYE/RapidEye2011",
 "description": "RAPIDEYE/RapidEye2011",
 "extent": {
  "xmin": -61.65593884306348,
  "ymin": -18.090072946947927,
  "xmax": -50.154235834680016,
  "ymax": -7.310540623013141,
  "spatialReference": {
   "wkid": 4674,
   "latestWkid": 4674
  }
 },
 "initialExtent": {
  "xmin": -61.65593884306348,
  "ymin": -18.090072946947927,
  "xmax": -50.154235834680016,
  "ymax": -7.310540623013141,
  "spatialReference": {
   "wkid": 4674,
   "latestWkid": 4674
  }
 },
 "fullExtent": {
  "xmin": -61.65593884306348,
  "ymin": -18.090072946947927,
  "xmax": -50.154235834680016,
  "ymax": -7.310540623013141,
  "spatialReference": {
   "wkid": 4674,
   "latestWkid": 4674
  }
 },
 "pixelSizeX": 4.721049070453673E-5,
 "pixelSizeY": 4.5256023863028614E-5,
 "bandCount": 3,
 "pixelType": "U8",
 "minPixelSize": 0,
 "maxPixelSize": 0,
 "copyrightText": "\"Inclui material © (2011) RapidEye AG, Alemanha. Todos os direitos reservados\"",
 "serviceDataType": "esriImageServiceDataTypeRGB",
 "minValues": [
  1,
  1,
  1
 ],
 "maxValues": [
  255,
  255,
  255
 ],
 "meanValues": [
  93.035041517232,
  104.19181437107,
  101.69836293958
 ],
 "stdvValues": [
  72.417070091173,
  66.66123050665,
  65.119525839246
 ],
 "objectIdField": "",
 "fields": [],
 "capabilities": "Mensuration,Image,Metadata",
 "defaultMosaicMethod": "Center",
 "allowedMosaicMethods": "",
 "sortField": "",
 "sortValue": null,
 "mosaicOperator": "First",
 "defaultCompressionQuality": 75,
 "defaultResamplingMethod": "Bilinear",
 "maxImageHeight": 4100,
 "maxImageWidth": 15000,
 "allowRasterFunction": true,
 "rasterFunctionInfos": [],
 "rasterTypeInfos": [
  {
   "name": "Raster Dataset",
   "description": "Supports all ArcGIS Raster Datasets",
   "help": ""
  }
 ],
 "mensurationCapabilities": "Basic",
 "hasHistograms": true,
 "hasColormap": false,
 "hasRasterAttributeTable": false,
 "minScale": 0,
 "maxScale": 0,
 "editFieldsInfo": null,
 "ownershipBasedAccessControlForRasters": null,
 "spatialReference": {
  "wkid": 4674,
  "latestWkid": 4674
 }
}
