View In:
  ArcGIS JavaScript
  ArcGIS.com Map
  Google Earth
  ArcMap
View Footprint In:
  ArcGIS.com Map
Service Description:  
Name:  ORTOFOTO/OrtofotoCuiaba2010 
Description:  ORTOFOTO/OrtofotoCuiaba2010 
Single Fused Map Cache:  false
Extent: 
XMin: 591741.106
YMin: 8265570.11
XMax: 614410.106
YMax: 8283611.11
Spatial Reference: PROJCS["South_American_1969_UTM_Zone_21S",GEOGCS["GCS_South_American_1969",DATUM["D_South_American_1969",SPHEROID["GRS_1967_Truncated",6378160.0,298.25]],PRIMEM["Greenwich",0.0],UNIT["Degree",0.0174532925199433]],PROJECTION["Transverse_Mercator"],PARAMETER["false_easting",500000.0],PARAMETER["false_northing",10000000.0],PARAMETER["central_meridian",-57.0],PARAMETER["scale_factor",0.9996],PARAMETER["latitude_of_origin",0.0],UNIT["Meter",1.0]]
 
Initial Extent: 
XMin: 591741.106
YMin: 8265570.11
XMax: 614410.106
YMax: 8283611.11
Spatial Reference: PROJCS["South_American_1969_UTM_Zone_21S",GEOGCS["GCS_South_American_1969",DATUM["D_South_American_1969",SPHEROID["GRS_1967_Truncated",6378160.0,298.25]],PRIMEM["Greenwich",0.0],UNIT["Degree",0.0174532925199433]],PROJECTION["Transverse_Mercator"],PARAMETER["false_easting",500000.0],PARAMETER["false_northing",10000000.0],PARAMETER["central_meridian",-57.0],PARAMETER["scale_factor",0.9996],PARAMETER["latitude_of_origin",0.0],UNIT["Meter",1.0]]
 
Full Extent: 
XMin: 591741.106
YMin: 8265570.11
XMax: 614410.106
YMax: 8283611.11
Spatial Reference: PROJCS["South_American_1969_UTM_Zone_21S",GEOGCS["GCS_South_American_1969",DATUM["D_South_American_1969",SPHEROID["GRS_1967_Truncated",6378160.0,298.25]],PRIMEM["Greenwich",0.0],UNIT["Degree",0.0174532925199433]],PROJECTION["Transverse_Mercator"],PARAMETER["false_easting",500000.0],PARAMETER["false_northing",10000000.0],PARAMETER["central_meridian",-57.0],PARAMETER["scale_factor",0.9996],PARAMETER["latitude_of_origin",0.0],UNIT["Meter",1.0]]
 
Pixel Size X:  0.5 
Pixel Size Y:  0.5 
Band Count: 3
Pixel Type: U8
RasterFunction Infos:  N/A 
Mensuration Capabilities: None,Basic
Has Histograms:  true
Has Colormap:  false
Min Scale:  0
Max Scale:  0
Copyright Text:  
Service Data Type:  esriImageServiceDataTypeRGB 
Min Values:  0, 0, 0 
Max Values:  255, 255, 255 
Mean Values:  53.574728921171584, 53.25989209103023, 46.76989261359183 
Standard Deviation Values:  52.1655589515051, 49.12558602151603, 45.17692622288014 
Object ID Field:  OBJECTID 
Fields: 
- 
OBJECTID
(
type: esriFieldTypeOID
, alias: OBJECTID
)
 
- 
Shape
(
type: esriFieldTypeGeometry
, alias: Shape
)
 
- 
Name
(
type: esriFieldTypeString
, alias: Name
, length: 50
)
 
- 
MinPS
(
type: esriFieldTypeDouble
, alias: MinPS
)
 
- 
MaxPS
(
type: esriFieldTypeDouble
, alias: MaxPS
)
 
- 
LowPS
(
type: esriFieldTypeDouble
, alias: LowPS
)
 
- 
HighPS
(
type: esriFieldTypeDouble
, alias: HighPS
)
 
- 
Category
(
type: esriFieldTypeInteger
, alias: Category
, Coded Values: 
[0: Unknown]
, [1: Primary]
, [2: Overview]
, ...6 more...
)
 
- 
Tag
(
type: esriFieldTypeString
, alias: Tag
, length: 20
)
 
- 
GroupName
(
type: esriFieldTypeString
, alias: GroupName
, length: 50
)
 
- 
ProductName
(
type: esriFieldTypeString
, alias: ProductName
, length: 50
)
 
- 
CenterX
(
type: esriFieldTypeDouble
, alias: CenterX
)
 
- 
CenterY
(
type: esriFieldTypeDouble
, alias: CenterY
)
 
- 
ZOrder
(
type: esriFieldTypeInteger
, alias: ZOrder
)
 
- 
Shape_Length
(
type: esriFieldTypeDouble
, alias: Shape_Length
)
 
- 
Shape_Area
(
type: esriFieldTypeDouble
, alias: Shape_Area
)
 
Raster Attribute Table:  false 
Default Mosaic Method:  Northwest 
Allowed Mosaic Methods:  NorthWest,Center,LockRaster,ByAttribute,Nadir,Viewpoint,Seamline,None 
SortField:  
SortValue:  null 
Mosaic Operator:  First 
Default Compression Quality:  75 
Default Resampling Method:  Bilinear 
Max Record Count:  1000 
Max Image Height:  4100 
Max Image Width:  15000 
Max Download Image Count:  20 
Max Mosaic Image Count:  20 
Allow Raster Function:  true 
Raster Type Infos: 
Name: Raster Dataset
Description: Supports all ArcGIS Raster Datasets
Help: 
Has Raster Attribute Table:  false 
Edit Fields Info:  null 
Ownership Based AccessControl For Rasters:  null 
Child Resources:
  
Info
  Histograms
  Key Properties
Supported Operations:
  
Export Image
  Query
  Identify
  Measure
  Compute Histograms