{
 "currentVersion": 10.11,
 "serviceDescription": "",
 "name": "ORTOFOTO/OrtofotoCuiaba2010",
 "description": "ORTOFOTO/OrtofotoCuiaba2010",
 "extent": {
  "xmin": 591741.106,
  "ymin": 8265570.11,
  "xmax": 614410.106,
  "ymax": 8283611.11,
  "spatialReference": {
   "wkt": "PROJCS[\"South_American_1969_UTM_Zone_21S\",GEOGCS[\"GCS_South_American_1969\",DATUM[\"D_South_American_1969\",SPHEROID[\"GRS_1967_Truncated\",6378160.0,298.25]],PRIMEM[\"Greenwich\",0.0],UNIT[\"Degree\",0.0174532925199433]],PROJECTION[\"Transverse_Mercator\"],PARAMETER[\"false_easting\",500000.0],PARAMETER[\"false_northing\",10000000.0],PARAMETER[\"central_meridian\",-57.0],PARAMETER[\"scale_factor\",0.9996],PARAMETER[\"latitude_of_origin\",0.0],UNIT[\"Meter\",1.0]]"
  }
 },
 "initialExtent": {
  "xmin": 591741.106,
  "ymin": 8265570.11,
  "xmax": 614410.106,
  "ymax": 8283611.11,
  "spatialReference": {
   "wkt": "PROJCS[\"South_American_1969_UTM_Zone_21S\",GEOGCS[\"GCS_South_American_1969\",DATUM[\"D_South_American_1969\",SPHEROID[\"GRS_1967_Truncated\",6378160.0,298.25]],PRIMEM[\"Greenwich\",0.0],UNIT[\"Degree\",0.0174532925199433]],PROJECTION[\"Transverse_Mercator\"],PARAMETER[\"false_easting\",500000.0],PARAMETER[\"false_northing\",10000000.0],PARAMETER[\"central_meridian\",-57.0],PARAMETER[\"scale_factor\",0.9996],PARAMETER[\"latitude_of_origin\",0.0],UNIT[\"Meter\",1.0]]"
  }
 },
 "fullExtent": {
  "xmin": 591741.106,
  "ymin": 8265570.11,
  "xmax": 614410.106,
  "ymax": 8283611.11,
  "spatialReference": {
   "wkt": "PROJCS[\"South_American_1969_UTM_Zone_21S\",GEOGCS[\"GCS_South_American_1969\",DATUM[\"D_South_American_1969\",SPHEROID[\"GRS_1967_Truncated\",6378160.0,298.25]],PRIMEM[\"Greenwich\",0.0],UNIT[\"Degree\",0.0174532925199433]],PROJECTION[\"Transverse_Mercator\"],PARAMETER[\"false_easting\",500000.0],PARAMETER[\"false_northing\",10000000.0],PARAMETER[\"central_meridian\",-57.0],PARAMETER[\"scale_factor\",0.9996],PARAMETER[\"latitude_of_origin\",0.0],UNIT[\"Meter\",1.0]]"
  }
 },
 "pixelSizeX": 0.5,
 "pixelSizeY": 0.5,
 "bandCount": 3,
 "pixelType": "U8",
 "minPixelSize": 0,
 "maxPixelSize": 0,
 "copyrightText": "",
 "serviceDataType": "esriImageServiceDataTypeRGB",
 "minValues": [
  0,
  0,
  0
 ],
 "maxValues": [
  255,
  255,
  255
 ],
 "meanValues": [
  53.574728921171584,
  53.25989209103023,
  46.76989261359183
 ],
 "stdvValues": [
  52.1655589515051,
  49.12558602151603,
  45.17692622288014
 ],
 "objectIdField": "OBJECTID",
 "fields": [
  {
   "name": "OBJECTID",
   "type": "esriFieldTypeOID",
   "alias": "OBJECTID",
   "domain": null
  },
  {
   "name": "Shape",
   "type": "esriFieldTypeGeometry",
   "alias": "Shape",
   "domain": null
  },
  {
   "name": "Name",
   "type": "esriFieldTypeString",
   "alias": "Name",
   "domain": null,
   "length": 50
  },
  {
   "name": "MinPS",
   "type": "esriFieldTypeDouble",
   "alias": "MinPS",
   "domain": null
  },
  {
   "name": "MaxPS",
   "type": "esriFieldTypeDouble",
   "alias": "MaxPS",
   "domain": null
  },
  {
   "name": "LowPS",
   "type": "esriFieldTypeDouble",
   "alias": "LowPS",
   "domain": null
  },
  {
   "name": "HighPS",
   "type": "esriFieldTypeDouble",
   "alias": "HighPS",
   "domain": null
  },
  {
   "name": "Category",
   "type": "esriFieldTypeInteger",
   "alias": "Category",
   "domain": {
    "type": "codedValue",
    "name": "MosaicCatalogItemCategoryDomain",
    "codedValues": [
     {
      "name": "Unknown",
      "code": 0
     },
     {
      "name": "Primary",
      "code": 1
     },
     {
      "name": "Overview",
      "code": 2
     },
     {
      "name": "Unprocessed Overview",
      "code": 3
     },
     {
      "name": "Partial Overview",
      "code": 4
     },
     {
      "name": "Inactive",
      "code": 5
     },
     {
      "name": "Uploaded",
      "code": 253
     },
     {
      "name": "Incomplete",
      "code": 254
     },
     {
      "name": "Custom",
      "code": 255
     }
    ]
   }
  },
  {
   "name": "Tag",
   "type": "esriFieldTypeString",
   "alias": "Tag",
   "domain": null,
   "length": 20
  },
  {
   "name": "GroupName",
   "type": "esriFieldTypeString",
   "alias": "GroupName",
   "domain": null,
   "length": 50
  },
  {
   "name": "ProductName",
   "type": "esriFieldTypeString",
   "alias": "ProductName",
   "domain": null,
   "length": 50
  },
  {
   "name": "CenterX",
   "type": "esriFieldTypeDouble",
   "alias": "CenterX",
   "domain": null
  },
  {
   "name": "CenterY",
   "type": "esriFieldTypeDouble",
   "alias": "CenterY",
   "domain": null
  },
  {
   "name": "ZOrder",
   "type": "esriFieldTypeInteger",
   "alias": "ZOrder",
   "domain": null
  },
  {
   "name": "Shape_Length",
   "type": "esriFieldTypeDouble",
   "alias": "Shape_Length",
   "domain": null
  },
  {
   "name": "Shape_Area",
   "type": "esriFieldTypeDouble",
   "alias": "Shape_Area",
   "domain": null
  }
 ],
 "capabilities": "Image,Metadata,Catalog,Mensuration",
 "defaultMosaicMethod": "Northwest",
 "allowedMosaicMethods": "NorthWest,Center,LockRaster,ByAttribute,Nadir,Viewpoint,Seamline,None",
 "sortField": "",
 "sortValue": null,
 "mosaicOperator": "First",
 "defaultCompressionQuality": 75,
 "defaultResamplingMethod": "Bilinear",
 "maxImageHeight": 4100,
 "maxImageWidth": 15000,
 "maxRecordCount": 1000,
 "maxDownloadImageCount": 20,
 "maxDownloadSizeLimit": 2048,
 "maxMosaicImageCount": 20,
 "allowRasterFunction": true,
 "rasterFunctionInfos": [],
 "rasterTypeInfos": [
  {
   "name": "Raster Dataset",
   "description": "Supports all ArcGIS Raster Datasets",
   "help": ""
  }
 ],
 "mensurationCapabilities": "None,Basic",
 "hasHistograms": true,
 "hasColormap": false,
 "hasRasterAttributeTable": false,
 "minScale": 0,
 "maxScale": 0,
 "editFieldsInfo": null,
 "ownershipBasedAccessControlForRasters": null,
 "spatialReference": {
  "wkt": "PROJCS[\"South_American_1969_UTM_Zone_21S\",GEOGCS[\"GCS_South_American_1969\",DATUM[\"D_South_American_1969\",SPHEROID[\"GRS_1967_Truncated\",6378160.0,298.25]],PRIMEM[\"Greenwich\",0.0],UNIT[\"Degree\",0.0174532925199433]],PROJECTION[\"Transverse_Mercator\"],PARAMETER[\"false_easting\",500000.0],PARAMETER[\"false_northing\",10000000.0],PARAMETER[\"central_meridian\",-57.0],PARAMETER[\"scale_factor\",0.9996],PARAMETER[\"latitude_of_origin\",0.0],UNIT[\"Meter\",1.0]]"
 }
}
