View In:
ArcGIS JavaScript
ArcGIS.com Map
Google Earth
ArcMap
View Footprint In:
ArcGIS.com Map
Service Description:
Name: LANDSAT/LandsatOld
Description: LANDSAT/LandsatOld
Single Fused Map Cache: false
Extent:
XMin: -799308.098
YMin: -585788.0728816
XMax: 677417.6635964001
YMax: 744110.387
Spatial Reference: PROJCS["Lambert_Conformal_Conic_2SP",GEOGCS["GCS_SAD69",DATUM["D_South_American_1969",SPHEROID["GRS_1967",6378160.0,298.2471674269971]],PRIMEM["Greenwich",0.0],UNIT["Degree",0.0174532925199433]],PROJECTION["Lambert_Conformal_Conic"],PARAMETER["false_easting",0.0],PARAMETER["false_northing",0.0],PARAMETER["central_meridian",-56.0],PARAMETER["standard_parallel_1",-10.5],PARAMETER["standard_parallel_2",-15.5],PARAMETER["latitude_of_origin",-13.0],UNIT["Meter",1.0]]
Initial Extent:
XMin: -799308.098
YMin: -585788.0728816
XMax: 677417.6635964001
YMax: 744110.387
Spatial Reference: PROJCS["Lambert_Conformal_Conic_2SP",GEOGCS["GCS_SAD69",DATUM["D_South_American_1969",SPHEROID["GRS_1967",6378160.0,298.2471674269971]],PRIMEM["Greenwich",0.0],UNIT["Degree",0.0174532925199433]],PROJECTION["Lambert_Conformal_Conic"],PARAMETER["false_easting",0.0],PARAMETER["false_northing",0.0],PARAMETER["central_meridian",-56.0],PARAMETER["standard_parallel_1",-10.5],PARAMETER["standard_parallel_2",-15.5],PARAMETER["latitude_of_origin",-13.0],UNIT["Meter",1.0]]
Full Extent:
XMin: -799308.098
YMin: -585788.0728816
XMax: 677417.6635964001
YMax: 744110.387
Spatial Reference: PROJCS["Lambert_Conformal_Conic_2SP",GEOGCS["GCS_SAD69",DATUM["D_South_American_1969",SPHEROID["GRS_1967",6378160.0,298.2471674269971]],PRIMEM["Greenwich",0.0],UNIT["Degree",0.0174532925199433]],PROJECTION["Lambert_Conformal_Conic"],PARAMETER["false_easting",0.0],PARAMETER["false_northing",0.0],PARAMETER["central_meridian",-56.0],PARAMETER["standard_parallel_1",-10.5],PARAMETER["standard_parallel_2",-15.5],PARAMETER["latitude_of_origin",-13.0],UNIT["Meter",1.0]]
Pixel Size X: 78.2661523
Pixel Size Y: 78.2661523
Band Count: 3
Pixel Type: U8
RasterFunction Infos: N/A
Mensuration Capabilities: None
Has Histograms: true
Has Colormap: false
Min Scale: 0
Max Scale: 0
Copyright Text:
Service Data Type: esriImageServiceDataTypeRGB
Min Values: 0, 0, 0
Max Values: 255, 255, 255
Mean Values: 170.81107254902432, 180.52548716199908, 158.85778459775756
Standard Deviation Values: 80.14982988384736, 73.69535129579872, 59.949697648495615
Object ID Field: OBJECTID
Fields:
-
OBJECTID
(
type: esriFieldTypeOID
, alias: OBJECTID
)
-
Shape
(
type: esriFieldTypeGeometry
, alias: Shape
)
-
Name
(
type: esriFieldTypeString
, alias: Name
, length: 50
)
-
MinPS
(
type: esriFieldTypeDouble
, alias: MinPS
)
-
MaxPS
(
type: esriFieldTypeDouble
, alias: MaxPS
)
-
LowPS
(
type: esriFieldTypeDouble
, alias: LowPS
)
-
HighPS
(
type: esriFieldTypeDouble
, alias: HighPS
)
-
Category
(
type: esriFieldTypeInteger
, alias: Category
, Coded Values:
[0: Unknown]
, [1: Primary]
, [2: Overview]
, ...6 more...
)
-
Tag
(
type: esriFieldTypeString
, alias: Tag
, length: 20
)
-
GroupName
(
type: esriFieldTypeString
, alias: GroupName
, length: 50
)
-
ProductName
(
type: esriFieldTypeString
, alias: ProductName
, length: 50
)
-
CenterX
(
type: esriFieldTypeDouble
, alias: CenterX
)
-
CenterY
(
type: esriFieldTypeDouble
, alias: CenterY
)
-
ZOrder
(
type: esriFieldTypeInteger
, alias: ZOrder
)
-
Shape_Length
(
type: esriFieldTypeDouble
, alias: Shape_Length
)
-
Shape_Area
(
type: esriFieldTypeDouble
, alias: Shape_Area
)
Raster Attribute Table: false
Default Mosaic Method: Northwest
Allowed Mosaic Methods: NorthWest,Center,LockRaster,ByAttribute,Nadir,Viewpoint,Seamline,None
SortField:
SortValue: null
Mosaic Operator: First
Default Compression Quality: 75
Default Resampling Method: Bilinear
Max Record Count: 1000
Max Image Height: 4100
Max Image Width: 15000
Max Download Image Count: 20
Max Mosaic Image Count: 20
Allow Raster Function: true
Raster Type Infos:
Name: WCS
Description: Allows a WCS (Web Coverage Service) coverage to be consumed as a raster dataset.
Help:
Name: Image Service
Description: Supports ArcGIS image service
Help:
Name: WMS
Description: Allows a WMS (Web Map Service) layer to be consumed as a raster dataset.
Help:
Name: Map Service
Description: Supports ArcGIS map service
Help:
Name: Raster Dataset
Description: Supports all ArcGIS Raster Datasets
Help:
Has Raster Attribute Table: false
Edit Fields Info: null
Ownership Based AccessControl For Rasters: null
Child Resources:
Info
Histograms
Key Properties
Supported Operations:
Export Image
Query
Identify
Compute Histograms