{
 "currentVersion": 10.11,
 "serviceDescription": "",
 "name": "LANDSAT/LandsatOld",
 "description": "LANDSAT/LandsatOld",
 "extent": {
  "xmin": -799308.098,
  "ymin": -585788.0728816,
  "xmax": 677417.6635964001,
  "ymax": 744110.387,
  "spatialReference": {
   "wkt": "PROJCS[\"Lambert_Conformal_Conic_2SP\",GEOGCS[\"GCS_SAD69\",DATUM[\"D_South_American_1969\",SPHEROID[\"GRS_1967\",6378160.0,298.2471674269971]],PRIMEM[\"Greenwich\",0.0],UNIT[\"Degree\",0.0174532925199433]],PROJECTION[\"Lambert_Conformal_Conic\"],PARAMETER[\"false_easting\",0.0],PARAMETER[\"false_northing\",0.0],PARAMETER[\"central_meridian\",-56.0],PARAMETER[\"standard_parallel_1\",-10.5],PARAMETER[\"standard_parallel_2\",-15.5],PARAMETER[\"latitude_of_origin\",-13.0],UNIT[\"Meter\",1.0]]"
  }
 },
 "initialExtent": {
  "xmin": -799308.098,
  "ymin": -585788.0728816,
  "xmax": 677417.6635964001,
  "ymax": 744110.387,
  "spatialReference": {
   "wkt": "PROJCS[\"Lambert_Conformal_Conic_2SP\",GEOGCS[\"GCS_SAD69\",DATUM[\"D_South_American_1969\",SPHEROID[\"GRS_1967\",6378160.0,298.2471674269971]],PRIMEM[\"Greenwich\",0.0],UNIT[\"Degree\",0.0174532925199433]],PROJECTION[\"Lambert_Conformal_Conic\"],PARAMETER[\"false_easting\",0.0],PARAMETER[\"false_northing\",0.0],PARAMETER[\"central_meridian\",-56.0],PARAMETER[\"standard_parallel_1\",-10.5],PARAMETER[\"standard_parallel_2\",-15.5],PARAMETER[\"latitude_of_origin\",-13.0],UNIT[\"Meter\",1.0]]"
  }
 },
 "fullExtent": {
  "xmin": -799308.098,
  "ymin": -585788.0728816,
  "xmax": 677417.6635964001,
  "ymax": 744110.387,
  "spatialReference": {
   "wkt": "PROJCS[\"Lambert_Conformal_Conic_2SP\",GEOGCS[\"GCS_SAD69\",DATUM[\"D_South_American_1969\",SPHEROID[\"GRS_1967\",6378160.0,298.2471674269971]],PRIMEM[\"Greenwich\",0.0],UNIT[\"Degree\",0.0174532925199433]],PROJECTION[\"Lambert_Conformal_Conic\"],PARAMETER[\"false_easting\",0.0],PARAMETER[\"false_northing\",0.0],PARAMETER[\"central_meridian\",-56.0],PARAMETER[\"standard_parallel_1\",-10.5],PARAMETER[\"standard_parallel_2\",-15.5],PARAMETER[\"latitude_of_origin\",-13.0],UNIT[\"Meter\",1.0]]"
  }
 },
 "pixelSizeX": 78.2661523,
 "pixelSizeY": 78.2661523,
 "bandCount": 3,
 "pixelType": "U8",
 "minPixelSize": 0,
 "maxPixelSize": 0,
 "copyrightText": "",
 "serviceDataType": "esriImageServiceDataTypeRGB",
 "minValues": [
  0,
  0,
  0
 ],
 "maxValues": [
  255,
  255,
  255
 ],
 "meanValues": [
  170.81107254902432,
  180.52548716199908,
  158.85778459775756
 ],
 "stdvValues": [
  80.14982988384736,
  73.69535129579872,
  59.949697648495615
 ],
 "objectIdField": "OBJECTID",
 "fields": [
  {
   "name": "OBJECTID",
   "type": "esriFieldTypeOID",
   "alias": "OBJECTID",
   "domain": null
  },
  {
   "name": "Shape",
   "type": "esriFieldTypeGeometry",
   "alias": "Shape",
   "domain": null
  },
  {
   "name": "Name",
   "type": "esriFieldTypeString",
   "alias": "Name",
   "domain": null,
   "length": 50
  },
  {
   "name": "MinPS",
   "type": "esriFieldTypeDouble",
   "alias": "MinPS",
   "domain": null
  },
  {
   "name": "MaxPS",
   "type": "esriFieldTypeDouble",
   "alias": "MaxPS",
   "domain": null
  },
  {
   "name": "LowPS",
   "type": "esriFieldTypeDouble",
   "alias": "LowPS",
   "domain": null
  },
  {
   "name": "HighPS",
   "type": "esriFieldTypeDouble",
   "alias": "HighPS",
   "domain": null
  },
  {
   "name": "Category",
   "type": "esriFieldTypeInteger",
   "alias": "Category",
   "domain": {
    "type": "codedValue",
    "name": "MosaicCatalogItemCategoryDomain",
    "codedValues": [
     {
      "name": "Unknown",
      "code": 0
     },
     {
      "name": "Primary",
      "code": 1
     },
     {
      "name": "Overview",
      "code": 2
     },
     {
      "name": "Unprocessed Overview",
      "code": 3
     },
     {
      "name": "Partial Overview",
      "code": 4
     },
     {
      "name": "Inactive",
      "code": 5
     },
     {
      "name": "Uploaded",
      "code": 253
     },
     {
      "name": "Incomplete",
      "code": 254
     },
     {
      "name": "Custom",
      "code": 255
     }
    ]
   }
  },
  {
   "name": "Tag",
   "type": "esriFieldTypeString",
   "alias": "Tag",
   "domain": null,
   "length": 20
  },
  {
   "name": "GroupName",
   "type": "esriFieldTypeString",
   "alias": "GroupName",
   "domain": null,
   "length": 50
  },
  {
   "name": "ProductName",
   "type": "esriFieldTypeString",
   "alias": "ProductName",
   "domain": null,
   "length": 50
  },
  {
   "name": "CenterX",
   "type": "esriFieldTypeDouble",
   "alias": "CenterX",
   "domain": null
  },
  {
   "name": "CenterY",
   "type": "esriFieldTypeDouble",
   "alias": "CenterY",
   "domain": null
  },
  {
   "name": "ZOrder",
   "type": "esriFieldTypeInteger",
   "alias": "ZOrder",
   "domain": null
  },
  {
   "name": "Shape_Length",
   "type": "esriFieldTypeDouble",
   "alias": "Shape_Length",
   "domain": null
  },
  {
   "name": "Shape_Area",
   "type": "esriFieldTypeDouble",
   "alias": "Shape_Area",
   "domain": null
  }
 ],
 "capabilities": "Catalog,Image,Metadata",
 "defaultMosaicMethod": "Northwest",
 "allowedMosaicMethods": "NorthWest,Center,LockRaster,ByAttribute,Nadir,Viewpoint,Seamline,None",
 "sortField": "",
 "sortValue": null,
 "mosaicOperator": "First",
 "defaultCompressionQuality": 75,
 "defaultResamplingMethod": "Bilinear",
 "maxImageHeight": 4100,
 "maxImageWidth": 15000,
 "maxRecordCount": 1000,
 "maxDownloadImageCount": 20,
 "maxDownloadSizeLimit": 2048,
 "maxMosaicImageCount": 20,
 "allowRasterFunction": true,
 "rasterFunctionInfos": [],
 "rasterTypeInfos": [
  {
   "name": "WCS",
   "description": "Allows a WCS (Web Coverage Service) coverage to be consumed as a raster dataset.",
   "help": ""
  },
  {
   "name": "Image Service",
   "description": "Supports ArcGIS image service",
   "help": ""
  },
  {
   "name": "WMS",
   "description": "Allows a WMS (Web Map Service) layer to be consumed as a raster dataset.",
   "help": ""
  },
  {
   "name": "Map Service",
   "description": "Supports ArcGIS map service",
   "help": ""
  },
  {
   "name": "Raster Dataset",
   "description": "Supports all ArcGIS Raster Datasets",
   "help": ""
  }
 ],
 "mensurationCapabilities": "None",
 "hasHistograms": true,
 "hasColormap": false,
 "hasRasterAttributeTable": false,
 "minScale": 0,
 "maxScale": 0,
 "editFieldsInfo": null,
 "ownershipBasedAccessControlForRasters": null,
 "spatialReference": {
  "wkt": "PROJCS[\"Lambert_Conformal_Conic_2SP\",GEOGCS[\"GCS_SAD69\",DATUM[\"D_South_American_1969\",SPHEROID[\"GRS_1967\",6378160.0,298.2471674269971]],PRIMEM[\"Greenwich\",0.0],UNIT[\"Degree\",0.0174532925199433]],PROJECTION[\"Lambert_Conformal_Conic\"],PARAMETER[\"false_easting\",0.0],PARAMETER[\"false_northing\",0.0],PARAMETER[\"central_meridian\",-56.0],PARAMETER[\"standard_parallel_1\",-10.5],PARAMETER[\"standard_parallel_2\",-15.5],PARAMETER[\"latitude_of_origin\",-13.0],UNIT[\"Meter\",1.0]]"
 }
}
