View In:
ArcGIS JavaScript
ArcGIS.com Map
Google Earth
ArcMap
View Footprint In:
ArcGIS.com Map
Service Description: Mosaico de Imagens Sentinel-2AB, do perĂodo de 10/2018 a 03/2019
Name: sentinel/sentinel2_20191
Description: Mosaico de Imagens Sentinel-2AB, do perĂodo de 10/2018 a 03/2019
Single Fused Map Cache: false
Extent:
XMin: -62.092274317999966
YMin: -18.176967038388284
XMax: -49.980918162915344
YMax: -7.234498730999981
Spatial Reference: 4326
(4326)
Initial Extent:
XMin: -62.092274317999966
YMin: -18.176967038388284
XMax: -49.980918162915344
YMax: -7.234498730999981
Spatial Reference: 4326
(4326)
Full Extent:
XMin: -62.092274317999966
YMin: -18.176967038388284
XMax: -49.980918162915344
YMax: -7.234498730999981
Spatial Reference: 4326
(4326)
Pixel Size X: 8.983152841195212E-5
Pixel Size Y: 8.983152841195215E-5
Band Count: 3
Pixel Type: U16
RasterFunction Infos: N/A
Mensuration Capabilities: None,Basic
Has Histograms: true
Has Colormap: false
Min Scale: 0
Max Scale: 0
Copyright Text:
Service Data Type: esriImageServiceDataTypeGeneric
Min Values: 202, 130, 383
Max Values: 12903, 12948, 11788
Mean Values: 783.463659131051, 2738.6848301668, 987.2967638548137
Standard Deviation Values: 552.5380818695118, 659.1322378457485, 450.3635990624115
Object ID Field: OBJECTID
Fields:
-
OBJECTID
(
type: esriFieldTypeOID
, alias: OBJECTID
)
-
Shape
(
type: esriFieldTypeGeometry
, alias: Shape
)
-
Name
(
type: esriFieldTypeString
, alias: Name
, length: 50
)
-
MinPS
(
type: esriFieldTypeDouble
, alias: MinPS
)
-
MaxPS
(
type: esriFieldTypeDouble
, alias: MaxPS
)
-
LowPS
(
type: esriFieldTypeDouble
, alias: LowPS
)
-
HighPS
(
type: esriFieldTypeDouble
, alias: HighPS
)
-
Category
(
type: esriFieldTypeInteger
, alias: Category
, Coded Values:
[0: Unknown]
, [1: Primary]
, [2: Overview]
, ...5 more...
)
-
Tag
(
type: esriFieldTypeString
, alias: Tag
, length: 20
)
-
GroupName
(
type: esriFieldTypeString
, alias: GroupName
, length: 50
)
-
ProductName
(
type: esriFieldTypeString
, alias: ProductName
, length: 50
)
-
CenterX
(
type: esriFieldTypeDouble
, alias: CenterX
)
-
CenterY
(
type: esriFieldTypeDouble
, alias: CenterY
)
-
ZOrder
(
type: esriFieldTypeInteger
, alias: ZOrder
)
-
Shape_Length
(
type: esriFieldTypeDouble
, alias: Shape_Length
)
-
Shape_Area
(
type: esriFieldTypeDouble
, alias: Shape_Area
)
Raster Attribute Table: false
Default Mosaic Method: Northwest
Allowed Mosaic Methods: NorthWest,Center,LockRaster,ByAttribute,Nadir,Viewpoint,Seamline,None
SortField:
SortValue: null
Mosaic Operator: First
Default Compression Quality: 75
Default Resampling Method: Bilinear
Max Record Count: 1000
Max Image Height: 4100
Max Image Width: 15000
Max Download Image Count: 20
Max Mosaic Image Count: 20
Allow Raster Function: true
Raster Type Infos:
Name: Raster Dataset
Description: Supports all ArcGIS Raster Datasets
Help:
Has Raster Attribute Table: false
Edit Fields Info: null
Ownership Based AccessControl For Rasters: null
Child Resources:
Info
Histograms
Key Properties
Supported Operations:
Export Image
Query
Identify
Measure
Compute Histograms