View In:
ArcGIS JavaScript
ArcGIS.com Map
Google Earth
ArcMap
View Footprint In:
ArcGIS.com Map
Service Description: Imagem Sentinel
Name: sentinel/Sentinel2_20181
Description: Imagem Sentinel
Single Fused Map Cache: false
Extent:
XMin: -62.092274317999966
YMin: -18.176984406388286
XMax: -49.980918162915344
YMax: -7.234516098999981
Spatial Reference: 4326
(4326)
Initial Extent:
XMin: -62.092274317999966
YMin: -18.176984406388286
XMax: -49.980918162915344
YMax: -7.234516098999981
Spatial Reference: 4326
(4326)
Full Extent:
XMin: -62.092274317999966
YMin: -18.176984406388286
XMax: -49.980918162915344
YMax: -7.234516098999981
Spatial Reference: 4326
(4326)
Pixel Size X: 8.983152841195212E-5
Pixel Size Y: 8.983152841195216E-5
Band Count: 3
Pixel Type: U16
RasterFunction Infos: N/A
Mensuration Capabilities: None,Basic
Has Histograms: true
Has Colormap: false
Min Scale: 0
Max Scale: 0
Copyright Text:
Service Data Type: esriImageServiceDataTypeGeneric
Min Values: 0, 0, 0
Max Values: 7464, 6790, 6816
Mean Values: 729.4859945289664, 823.3269223562917, 899.4722018500872
Standard Deviation Values: 418.35091589675375, 199.99556753367378, 149.7313576811163
Object ID Field: OBJECTID
Fields:
-
OBJECTID
(
type: esriFieldTypeOID
, alias: OBJECTID
)
-
Shape
(
type: esriFieldTypeGeometry
, alias: Shape
)
-
Name
(
type: esriFieldTypeString
, alias: Name
, length: 50
)
-
MinPS
(
type: esriFieldTypeDouble
, alias: MinPS
)
-
MaxPS
(
type: esriFieldTypeDouble
, alias: MaxPS
)
-
LowPS
(
type: esriFieldTypeDouble
, alias: LowPS
)
-
HighPS
(
type: esriFieldTypeDouble
, alias: HighPS
)
-
Category
(
type: esriFieldTypeInteger
, alias: Category
, Coded Values:
[0: Unknown]
, [1: Primary]
, [2: Overview]
, ...5 more...
)
-
Tag
(
type: esriFieldTypeString
, alias: Tag
, length: 20
)
-
GroupName
(
type: esriFieldTypeString
, alias: GroupName
, length: 50
)
-
ProductName
(
type: esriFieldTypeString
, alias: ProductName
, length: 50
)
-
CenterX
(
type: esriFieldTypeDouble
, alias: CenterX
)
-
CenterY
(
type: esriFieldTypeDouble
, alias: CenterY
)
-
ZOrder
(
type: esriFieldTypeInteger
, alias: ZOrder
)
-
Shape_Length
(
type: esriFieldTypeDouble
, alias: Shape_Length
)
-
Shape_Area
(
type: esriFieldTypeDouble
, alias: Shape_Area
)
-
SOrder
(
type: esriFieldTypeInteger
, alias: SOrder
)
-
SLevelPS
(
type: esriFieldTypeDouble
, alias: SLevelPS
)
Raster Attribute Table: false
Default Mosaic Method: Seamline
Allowed Mosaic Methods: Seamline,NorthWest,Center,LockRaster,ByAttribute,Nadir,Viewpoint,None
SortField:
SortValue: null
Mosaic Operator: First
Default Compression Quality: 75
Default Resampling Method: Bilinear
Max Record Count: 1000
Max Image Height: 4100
Max Image Width: 15000
Max Download Image Count: 20
Max Mosaic Image Count: 20
Allow Raster Function: true
Raster Type Infos:
Name: Raster Dataset
Description: Supports all ArcGIS Raster Datasets
Help:
Has Raster Attribute Table: false
Edit Fields Info: null
Ownership Based AccessControl For Rasters: null
Child Resources:
Info
Histograms
Key Properties
Supported Operations:
Export Image
Query
Identify
Measure
Compute Histograms