View In:
  ArcGIS JavaScript
  ArcGIS.com Map
  Google Earth
  ArcMap
View Footprint In:
  ArcGIS.com Map
Service Description:  
Name:  ORTOFOTO/OrtofotoVarzeaGrande2012 
Description:  ORTOFOTO/OrtofotoVarzeaGrande2012 
Single Fused Map Cache:  false
Extent: 
XMin: 582500.4500000019
YMin: 8256030.4
XMax: 600671.1499999942
YMax: 8279397.09999999
Spatial Reference: PROJCS["SAD69_UTM_Zone_21S",GEOGCS["GCS_SAD69",DATUM["D_South_American_1969",SPHEROID["GRS_1967",6378160.0,298.25]],PRIMEM["Greenwich",0.0],UNIT["Degree",0.0174532925199433]],PROJECTION["Transverse_Mercator"],PARAMETER["false_easting",500000.0],PARAMETER["false_northing",10000000.0],PARAMETER["central_meridian",-57.0],PARAMETER["scale_factor",0.9996],PARAMETER["latitude_of_origin",0.0],UNIT["Meter",1.0]]
 
Initial Extent: 
XMin: 582500.4500000019
YMin: 8256030.4
XMax: 600671.1499999942
YMax: 8279397.09999999
Spatial Reference: PROJCS["SAD69_UTM_Zone_21S",GEOGCS["GCS_SAD69",DATUM["D_South_American_1969",SPHEROID["GRS_1967",6378160.0,298.25]],PRIMEM["Greenwich",0.0],UNIT["Degree",0.0174532925199433]],PROJECTION["Transverse_Mercator"],PARAMETER["false_easting",500000.0],PARAMETER["false_northing",10000000.0],PARAMETER["central_meridian",-57.0],PARAMETER["scale_factor",0.9996],PARAMETER["latitude_of_origin",0.0],UNIT["Meter",1.0]]
 
Full Extent: 
XMin: 582500.4500000019
YMin: 8256030.4
XMax: 600671.1499999942
YMax: 8279397.09999999
Spatial Reference: PROJCS["SAD69_UTM_Zone_21S",GEOGCS["GCS_SAD69",DATUM["D_South_American_1969",SPHEROID["GRS_1967",6378160.0,298.25]],PRIMEM["Greenwich",0.0],UNIT["Degree",0.0174532925199433]],PROJECTION["Transverse_Mercator"],PARAMETER["false_easting",500000.0],PARAMETER["false_northing",10000000.0],PARAMETER["central_meridian",-57.0],PARAMETER["scale_factor",0.9996],PARAMETER["latitude_of_origin",0.0],UNIT["Meter",1.0]]
 
Pixel Size X:  0.14999999999993618 
Pixel Size Y:  0.14999999999993543 
Band Count: 3
Pixel Type: U8
RasterFunction Infos:  N/A 
Mensuration Capabilities: None,Basic
Has Histograms:  true
Has Colormap:  false
Min Scale:  0
Max Scale:  0
Copyright Text:  
Service Data Type:  esriImageServiceDataTypeRGB 
Min Values:  0, 0, 0 
Max Values:  255, 255, 255 
Mean Values:  96.57222903552791, 117.93168792000901, 92.28153430777509 
Standard Deviation Values:  60.38363424947253, 45.788537714439926, 34.0794103994005 
Object ID Field:  OBJECTID 
Fields: 
- 
OBJECTID
(
type: esriFieldTypeOID
, alias: OBJECTID
)
 
- 
Shape
(
type: esriFieldTypeGeometry
, alias: Shape
)
 
- 
Name
(
type: esriFieldTypeString
, alias: Name
, length: 50
)
 
- 
MinPS
(
type: esriFieldTypeDouble
, alias: MinPS
)
 
- 
MaxPS
(
type: esriFieldTypeDouble
, alias: MaxPS
)
 
- 
LowPS
(
type: esriFieldTypeDouble
, alias: LowPS
)
 
- 
HighPS
(
type: esriFieldTypeDouble
, alias: HighPS
)
 
- 
Category
(
type: esriFieldTypeInteger
, alias: Category
, Coded Values: 
[0: Unknown]
, [1: Primary]
, [2: Overview]
, ...6 more...
)
 
- 
Tag
(
type: esriFieldTypeString
, alias: Tag
, length: 20
)
 
- 
GroupName
(
type: esriFieldTypeString
, alias: GroupName
, length: 50
)
 
- 
ProductName
(
type: esriFieldTypeString
, alias: ProductName
, length: 50
)
 
- 
CenterX
(
type: esriFieldTypeDouble
, alias: CenterX
)
 
- 
CenterY
(
type: esriFieldTypeDouble
, alias: CenterY
)
 
- 
ZOrder
(
type: esriFieldTypeInteger
, alias: ZOrder
)
 
- 
Shape_Length
(
type: esriFieldTypeDouble
, alias: Shape_Length
)
 
- 
Shape_Area
(
type: esriFieldTypeDouble
, alias: Shape_Area
)
 
Raster Attribute Table:  false 
Default Mosaic Method:  Northwest 
Allowed Mosaic Methods:  NorthWest,Center,LockRaster,ByAttribute,Nadir,Viewpoint,Seamline,None 
SortField:  
SortValue:  null 
Mosaic Operator:  First 
Default Compression Quality:  75 
Default Resampling Method:  Bilinear 
Max Record Count:  1000 
Max Image Height:  4100 
Max Image Width:  15000 
Max Download Image Count:  20 
Max Mosaic Image Count:  20 
Allow Raster Function:  true 
Raster Type Infos: 
Name: Raster Dataset
Description: Supports all ArcGIS Raster Datasets
Help: 
Has Raster Attribute Table:  false 
Edit Fields Info:  null 
Ownership Based AccessControl For Rasters:  null 
Child Resources:
  
Info
  Histograms
  Key Properties
Supported Operations:
  
Export Image
  Query
  Identify
  Measure
  Compute Histograms