View In:
  ArcGIS JavaScript
  ArcGIS.com Map
  Google Earth
  ArcMap
View Footprint In:
  ArcGIS.com Map
Service Description:  Ortofoto resolução espacial de 0,15 cm da cidade de Várzea Grande - MT 
Name:  ORTOFOTO/OrtofotoVarzeaGrande2005 
Description:  Ortofoto resolução espacial de 0,15 cm da cidade de Várzea Grande - MT 
Single Fused Map Cache:  false
Extent: 
XMin: 582608.8340546567
YMin: 8258516.747073321
XMax: 600497.9539671605
YMax: 8276987.306982981
Spatial Reference: 29181
 (29191)
 
Initial Extent: 
XMin: 582608.8340546567
YMin: 8258516.747073321
XMax: 600497.9539671605
YMax: 8276987.306982981
Spatial Reference: 29181
 (29191)
 
Full Extent: 
XMin: 582608.8340546567
YMin: 8258516.747073321
XMax: 600497.9539671605
YMax: 8276987.306982981
Spatial Reference: 29181
 (29191)
 
Pixel Size X:  0.15999999921743602 
Pixel Size Y:  0.15999999921743893 
Band Count: 3
Pixel Type: U8
RasterFunction Infos:  N/A 
Mensuration Capabilities: None,Basic
Has Histograms:  true
Has Colormap:  false
Min Scale:  0
Max Scale:  0
Copyright Text:  
Service Data Type:  esriImageServiceDataTypeRGB 
Min Values:  0, 0, 0 
Max Values:  255, 255, 255 
Mean Values:  161.79969997428904, 155.50164608178406, 127.1711383771934 
Standard Deviation Values:  67.32121288821072, 64.12251532199768, 75.84980004305937 
Object ID Field:  OBJECTID 
Fields: 
- 
OBJECTID
(
type: esriFieldTypeOID
, alias: OBJECTID
)
 
- 
Shape
(
type: esriFieldTypeGeometry
, alias: Shape
)
 
- 
Name
(
type: esriFieldTypeString
, alias: Name
, length: 50
)
 
- 
MinPS
(
type: esriFieldTypeDouble
, alias: MinPS
)
 
- 
MaxPS
(
type: esriFieldTypeDouble
, alias: MaxPS
)
 
- 
LowPS
(
type: esriFieldTypeDouble
, alias: LowPS
)
 
- 
HighPS
(
type: esriFieldTypeDouble
, alias: HighPS
)
 
- 
Category
(
type: esriFieldTypeInteger
, alias: Category
, Coded Values: 
[0: Unknown]
, [1: Primary]
, [2: Overview]
, ...6 more...
)
 
- 
Tag
(
type: esriFieldTypeString
, alias: Tag
, length: 20
)
 
- 
GroupName
(
type: esriFieldTypeString
, alias: GroupName
, length: 50
)
 
- 
ProductName
(
type: esriFieldTypeString
, alias: ProductName
, length: 50
)
 
- 
CenterX
(
type: esriFieldTypeDouble
, alias: CenterX
)
 
- 
CenterY
(
type: esriFieldTypeDouble
, alias: CenterY
)
 
- 
ZOrder
(
type: esriFieldTypeInteger
, alias: ZOrder
)
 
- 
Shape_Length
(
type: esriFieldTypeDouble
, alias: Shape_Length
)
 
- 
Shape_Area
(
type: esriFieldTypeDouble
, alias: Shape_Area
)
 
Raster Attribute Table:  false 
Default Mosaic Method:  Northwest 
Allowed Mosaic Methods:  NorthWest,Center,LockRaster,ByAttribute,Nadir,Viewpoint,Seamline,None 
SortField:  
SortValue:  null 
Mosaic Operator:  First 
Default Compression Quality:  75 
Default Resampling Method:  Bilinear 
Max Record Count:  1000 
Max Image Height:  4100 
Max Image Width:  15000 
Max Download Image Count:  20 
Max Mosaic Image Count:  20 
Allow Raster Function:  true 
Raster Type Infos: 
Name: WCS
Description: Allows a WCS (Web Coverage Service) coverage to be consumed as a raster dataset.
Help: 
Name: WMS
Description: Allows a WMS (Web Map Service) layer to be consumed as a raster dataset.
Help: 
Name: Raster Dataset
Description: Supports all ArcGIS Raster Datasets
Help: 
Has Raster Attribute Table:  false 
Edit Fields Info:  null 
Ownership Based AccessControl For Rasters:  null 
Child Resources:
  
Info
  Histograms
  Key Properties
Supported Operations:
  
Export Image
  Query
  Identify
  Measure
  Compute Histograms