View In:
  ArcGIS JavaScript
  ArcGIS.com Map
  Google Earth
  ArcMap
View Footprint In:
  ArcGIS.com Map
Service Description:  
Name:  ORTOFOTO/OrtofotoCuiaba2005 
Description:  ORTOFOTO/OrtofotoCuiaba2005 
Single Fused Map Cache:  false
Extent: 
XMin: 591740.9542050001
YMin: 8265570.034345
XMax: 614410.0884999993
YMax: 8283611.209434999
Spatial Reference: 29181
 (29191)
 
Initial Extent: 
XMin: 591740.9542050001
YMin: 8265570.034345
XMax: 614410.0884999993
YMax: 8283611.209434999
Spatial Reference: 29181
 (29191)
 
Full Extent: 
XMin: 591740.9542050001
YMin: 8265570.034345
XMax: 614410.0884999993
YMax: 8283611.209434999
Spatial Reference: 29181
 (29191)
 
Pixel Size X:  0.1608549999999942 
Pixel Size Y:  0.160854999999992 
Band Count: 3
Pixel Type: U8
RasterFunction Infos:  N/A 
Mensuration Capabilities: None,Basic
Has Histograms:  true
Has Colormap:  false
Min Scale:  0
Max Scale:  0
Copyright Text:  
Service Data Type:  esriImageServiceDataTypeRGB 
Min Values:  0, 0, 0 
Max Values:  255, 255, 255 
Mean Values:  154.84158235616363, 159.62315285453752, 139.69347093454638 
Standard Deviation Values:  62.427265554376284, 56.99454330518373, 67.17312082482376 
Object ID Field:  OBJECTID 
Fields: 
- 
OBJECTID
(
type: esriFieldTypeOID
, alias: OBJECTID
)
 
- 
Shape
(
type: esriFieldTypeGeometry
, alias: Shape
)
 
- 
Name
(
type: esriFieldTypeString
, alias: Name
, length: 50
)
 
- 
MinPS
(
type: esriFieldTypeDouble
, alias: MinPS
)
 
- 
MaxPS
(
type: esriFieldTypeDouble
, alias: MaxPS
)
 
- 
LowPS
(
type: esriFieldTypeDouble
, alias: LowPS
)
 
- 
HighPS
(
type: esriFieldTypeDouble
, alias: HighPS
)
 
- 
Category
(
type: esriFieldTypeInteger
, alias: Category
, Coded Values: 
[0: Unknown]
, [1: Primary]
, [2: Overview]
, ...6 more...
)
 
- 
Tag
(
type: esriFieldTypeString
, alias: Tag
, length: 20
)
 
- 
GroupName
(
type: esriFieldTypeString
, alias: GroupName
, length: 50
)
 
- 
ProductName
(
type: esriFieldTypeString
, alias: ProductName
, length: 50
)
 
- 
CenterX
(
type: esriFieldTypeDouble
, alias: CenterX
)
 
- 
CenterY
(
type: esriFieldTypeDouble
, alias: CenterY
)
 
- 
ZOrder
(
type: esriFieldTypeInteger
, alias: ZOrder
)
 
- 
Shape_Length
(
type: esriFieldTypeDouble
, alias: Shape_Length
)
 
- 
Shape_Area
(
type: esriFieldTypeDouble
, alias: Shape_Area
)
 
Raster Attribute Table:  false 
Default Mosaic Method:  Northwest 
Allowed Mosaic Methods:  NorthWest,Center,LockRaster,ByAttribute,Nadir,Viewpoint,Seamline,None 
SortField:  
SortValue:  null 
Mosaic Operator:  First 
Default Compression Quality:  75 
Default Resampling Method:  Bilinear 
Max Record Count:  1000 
Max Image Height:  4100 
Max Image Width:  15000 
Max Download Image Count:  20 
Max Mosaic Image Count:  20 
Allow Raster Function:  true 
Raster Type Infos: 
Name: Raster Dataset
Description: Supports all ArcGIS Raster Datasets
Help: 
Has Raster Attribute Table:  false 
Edit Fields Info:  null 
Ownership Based AccessControl For Rasters:  null 
Child Resources:
  
Info
  Histograms
  Key Properties
Supported Operations:
  
Export Image
  Query
  Identify
  Measure
  Compute Histograms