{
 "currentVersion": 10.11,
 "serviceDescription": "mde_ap",
 "name": "mde_ap/mde_ap",
 "description": "mde_ap",
 "extent": {
  "xmin": -14483.642872499302,
  "ymin": 7996066.615572501,
  "xmax": 1249516.3571275007,
  "ymax": 9192554.115572501,
  "spatialReference": {
   "wkid": 32721,
   "latestWkid": 32721
  }
 },
 "initialExtent": {
  "xmin": -14483.642872499302,
  "ymin": 7996066.615572501,
  "xmax": 1249516.3571275007,
  "ymax": 9192554.115572501,
  "spatialReference": {
   "wkid": 32721,
   "latestWkid": 32721
  }
 },
 "fullExtent": {
  "xmin": -14483.642872499302,
  "ymin": 7996066.615572501,
  "xmax": 1249516.3571275007,
  "ymax": 9192554.115572501,
  "spatialReference": {
   "wkid": 32721,
   "latestWkid": 32721
  }
 },
 "pixelSizeX": 12.5,
 "pixelSizeY": 12.5,
 "bandCount": 1,
 "pixelType": "S16",
 "minPixelSize": 0,
 "maxPixelSize": 0,
 "copyrightText": "",
 "serviceDataType": "esriImageServiceDataTypeGeneric",
 "minValues": [
  53
 ],
 "maxValues": [
  1176
 ],
 "meanValues": [
  332.6033624691275
 ],
 "stdvValues": [
  142.3482087226095
 ],
 "objectIdField": "",
 "fields": [],
 "capabilities": "Mensuration,Image,Metadata",
 "defaultMosaicMethod": "Center",
 "allowedMosaicMethods": "",
 "sortField": "",
 "sortValue": null,
 "mosaicOperator": "First",
 "defaultCompressionQuality": 75,
 "defaultResamplingMethod": "Bilinear",
 "maxImageHeight": 4100,
 "maxImageWidth": 15000,
 "allowRasterFunction": true,
 "rasterFunctionInfos": [],
 "rasterTypeInfos": [
  {
   "name": "Raster Dataset",
   "description": "Supports all ArcGIS Raster Datasets",
   "help": ""
  }
 ],
 "mensurationCapabilities": "Basic",
 "hasHistograms": false,
 "hasColormap": false,
 "hasRasterAttributeTable": true,
 "minScale": 0,
 "maxScale": 0,
 "editFieldsInfo": null,
 "ownershipBasedAccessControlForRasters": null,
 "spatialReference": {
  "wkid": 32721,
  "latestWkid": 32721
 }
}
