View In:
ArcGIS JavaScript
ArcGIS.com Map
Google Earth
ArcMap
View Footprint In:
ArcGIS.com Map
Service Description: mde_ap
Name: mde_ap/mde_ap
Description: mde_ap
Single Fused Map Cache: false
Extent:
XMin: -14483.642872499302
YMin: 7996066.615572501
XMax: 1249516.3571275007
YMax: 9192554.115572501
Spatial Reference:
32721
(32721)
Initial Extent:
XMin: -14483.642872499302
YMin: 7996066.615572501
XMax: 1249516.3571275007
YMax: 9192554.115572501
Spatial Reference:
32721
(32721)
Full Extent:
XMin: -14483.642872499302
YMin: 7996066.615572501
XMax: 1249516.3571275007
YMax: 9192554.115572501
Spatial Reference:
32721
(32721)
Pixel Size X: 12.5
Pixel Size Y: 12.5
Band Count: 1
Pixel Type: S16
RasterFunction Infos: N/A
Mensuration Capabilities: Basic
Has Histograms: false
Has Colormap: false
Min Scale: 0
Max Scale: 0
Copyright Text:
Service Data Type: esriImageServiceDataTypeGeneric
Min Values: 53
Max Values: 1176
Mean Values: 332.6033624691275
Standard Deviation Values: 142.3482087226095
Object ID Field:
Fields:
None
Raster Attribute Table: true
Default Mosaic Method: Center
Allowed Mosaic Methods:
SortField:
SortValue: null
Mosaic Operator: First
Default Compression Quality: 75
Default Resampling Method: Bilinear
Max Record Count: null
Max Image Height: 4100
Max Image Width: 15000
Max Download Image Count: null
Max Mosaic Image Count: null
Allow Raster Function: true
Raster Type Infos:
Name: Raster Dataset
Description: Supports all ArcGIS Raster Datasets
Help:
Has Raster Attribute Table: true
Edit Fields Info: null
Ownership Based AccessControl For Rasters: null
Child Resources:
Info
Raster Attribute Table
Key Properties
Supported Operations:
Export Image
Identify
Measure
Compute Histograms