<?xml version="1.0" encoding="UTF-8" standalone="no"?>
<metadata xml:lang="pt">
<Esri>
<CreaDate>20151127</CreaDate>
<CreaTime>05260300</CreaTime>
<ArcGISFormat>1.0</ArcGISFormat>
<SyncOnce>FALSE</SyncOnce>
<DataProperties>
<itemProps>
<itemName Sync="TRUE">mosaico_mt_rapideye_corregistrada.img</itemName>
<imsContentType Sync="TRUE">002</imsContentType>
<nativeExtBox>
<westBL Sync="TRUE">-61.655939</westBL>
<eastBL Sync="TRUE">-50.154236</eastBL>
<southBL Sync="TRUE">-18.090073</southBL>
<northBL Sync="TRUE">-7.310541</northBL>
<exTypeCode Sync="TRUE">1</exTypeCode>
</nativeExtBox>
</itemProps>
<coordRef>
<type Sync="TRUE">Geographic</type>
<geogcsn Sync="TRUE">GCS_SIRGAS_2000</geogcsn>
<csUnits Sync="TRUE">Angular Unit: Degree (0.017453)</csUnits>
<peXml Sync="TRUE">&lt;GeographicCoordinateSystem xsi:type='typens:GeographicCoordinateSystem' xmlns:xsi='http://www.w3.org/2001/XMLSchema-instance' xmlns:xs='http://www.w3.org/2001/XMLSchema' xmlns:typens='http://www.esri.com/schemas/ArcGIS/10.1'&gt;&lt;WKT&gt;GEOGCS[&amp;quot;GCS_SIRGAS_2000&amp;quot;,DATUM[&amp;quot;D_SIRGAS_2000&amp;quot;,SPHEROID[&amp;quot;GRS_1980&amp;quot;,6378137.0,298.257222101]],PRIMEM[&amp;quot;Greenwich&amp;quot;,0.0],UNIT[&amp;quot;Degree&amp;quot;,0.0174532925199433],AUTHORITY[&amp;quot;EPSG&amp;quot;,4674]]&lt;/WKT&gt;&lt;XOrigin&gt;-400&lt;/XOrigin&gt;&lt;YOrigin&gt;-400&lt;/YOrigin&gt;&lt;XYScale&gt;11258999068426.238&lt;/XYScale&gt;&lt;ZOrigin&gt;-100000&lt;/ZOrigin&gt;&lt;ZScale&gt;10000&lt;/ZScale&gt;&lt;MOrigin&gt;-100000&lt;/MOrigin&gt;&lt;MScale&gt;10000&lt;/MScale&gt;&lt;XYTolerance&gt;8.9831528411952133e-009&lt;/XYTolerance&gt;&lt;ZTolerance&gt;0.001&lt;/ZTolerance&gt;&lt;MTolerance&gt;0.001&lt;/MTolerance&gt;&lt;HighPrecision&gt;true&lt;/HighPrecision&gt;&lt;LeftLongitude&gt;-180&lt;/LeftLongitude&gt;&lt;WKID&gt;4674&lt;/WKID&gt;&lt;LatestWKID&gt;4674&lt;/LatestWKID&gt;&lt;/GeographicCoordinateSystem&gt;</peXml>
</coordRef>
<RasterProperties>
<General>
<PixelDepth Sync="TRUE">8</PixelDepth>
<HasColormap Sync="TRUE">FALSE</HasColormap>
<CompressionType Sync="TRUE">None</CompressionType>
<NumBands Sync="TRUE">3</NumBands>
<Format Sync="TRUE">IMAGINE Image</Format>
<HasPyramids Sync="TRUE">TRUE</HasPyramids>
<SourceType Sync="TRUE">continuous</SourceType>
<PixelType Sync="TRUE">unsigned integer</PixelType>
<NoDataValue Sync="TRUE">0</NoDataValue>
</General>
</RasterProperties>
</DataProperties>
<SyncDate>20151127</SyncDate>
<SyncTime>05260300</SyncTime>
<ModDate>20151127</ModDate>
<ModTime>05260300</ModTime>
</Esri>
<dataIdInfo>
<envirDesc Sync="TRUE"> Version 6.2 (Build 9200) ; Esri ArcGIS 10.1.1.3143</envirDesc>
<dataLang>
<languageCode Sync="TRUE" value="por">
</languageCode>
<countryCode Sync="TRUE" value="BRA">
</countryCode>
</dataLang>
<idCitation>
<resTitle Sync="TRUE">mosaico_mt_rapideye_corregistrada.img</resTitle>
<presForm>
<PresFormCd Sync="TRUE" value="005">
</PresFormCd>
</presForm>
</idCitation>
<spatRpType>
<SpatRepTypCd Sync="TRUE" value="002">
</SpatRepTypCd>
</spatRpType>
<dataExt>
<geoEle>
<GeoBndBox esriExtentType="search">
<exTypeCode Sync="TRUE">1</exTypeCode>
<westBL Sync="TRUE">-61.655939</westBL>
<eastBL Sync="TRUE">-50.154236</eastBL>
<northBL Sync="TRUE">-7.310541</northBL>
<southBL Sync="TRUE">-18.090073</southBL>
</GeoBndBox>
</geoEle>
</dataExt>
<idAbs>Disponibilizadas pelo Ministério do Meio Ambiente através de Termo de Compromisso Corporativo pelo Uso das Imagens Rapideye. O uso das Imagens deve respeitar o Contrato de Licença do Usuário Final (EULA) disponível em http://geocatalogo.mma.gov.br/termos_de_uso/EULA_RapidEye_Padrao.pdf.</idAbs>
<idPurp/>
<idCredit>"Inclui material © (2011) RapidEye AG, Alemanha. Todos os direitos reservados"</idCredit>
<resConst>
<Consts>
<useLimit>TERMO DE COMPROMISSO CORPORATIVO DE USO DAS IMAGENS DE SATÉLITE RAPIDEYE, adquiridas pelo Ministério do Meio Ambiente (MMA) por meio do Contrato MMA n° 30/2012, celebrado entre o referido Ministério e a Empresa Santiago &amp; Cintra Consultoria, distribuidora oficial das Imagens Rapideye no Brasil, CONSIDERANDO: Os termos do item 8.7 da cláusula Oitava do Contrato Administrativo n° 30/2012, que exigia que o tipo de licenciamento e o direito de uso das imagens deveriam permitir a distribuição de cópias aos diversos Órgãos Federais cadastrados e demais Órgãos públicos pertencentes ao Governo Federal, além dos Órgãos Públicos devidamente envolvidos nos programas do Ministério do Meio Ambiente; O documento de esclarecimento enviado pela Empresa Santiago &amp; Cintra, afirmando que a licença de uso das imagens Rapideye permite a sua utilização por todos os órgãos públicos brasileiros, em conformidade com o Contrato de Licença do Usuário Final – EULA; A afirmação da Secretaria de Extrativismo e Desenvolvimento Rural Sustentável (Nota Técnica nº79/2013) de que o tipo de licença das imagens adquiridas é do tipo expandida, a qual permite a sua utilização por diversos órgãos públicos; Comprometo-me a: 1. Aceitar e cumprir os termos e condições previstos no Contrato de Licença do Usuário Final (EULA), que segue anexo; 2. Não comercializar, sub-licenciar, arrendar, alugar, ou de outro modo transferir ou ceder como Produtos a terceiros as imagens cedidas, ainda que processadas (Produto de Valor Agregado), exceto conforme expressamente indicado neste EULA e com a prévia autorização do MMA e da Empresa Santiago &amp; Cintra Consultoria; 3. Zelar pela correta utilização das imagens para atender, exclusivamente, os fins a que foram disponibilizadas, sob pena de apuração de responsabilidades civil, administrativa e penal; 4. Utilizar as imagens, necessariamente, com seus metadados; 5. Observar as diretrizes, objetivos e normas expedidas pela CONCAR, quanto aos dados que forem gerados com base nas imagens, alinhando-se com as políticas desenvolvidas no âmbito do Sistema Nacional de Cartografia, nos termos dos Decretos n° 89.817/84 e 6.666/2008. 6. Fazer pleno uso das imagens, tais como gerar mosaicos, realizar segmentações, retificar, restaurar, realçar, combinar dados, classificar as imagens de satélite, conforme previsto no EULA. </useLimit>
</Consts>
</resConst>
<searchKeys>
<keyword>Imagem</keyword>
<keyword> satelite</keyword>
<keyword> rapideye</keyword>
</searchKeys>
</dataIdInfo>
<mdLang>
<languageCode Sync="TRUE" value="por">
</languageCode>
<countryCode Sync="TRUE" value="BRA">
</countryCode>
</mdLang>
<mdChar>
<CharSetCd Sync="TRUE" value="004">
</CharSetCd>
</mdChar>
<distInfo>
<distFormat>
<formatName Sync="TRUE">Raster Dataset</formatName>
</distFormat>
</distInfo>
<mdHrLv>
<ScopeCd Sync="TRUE" value="005">
</ScopeCd>
</mdHrLv>
<mdHrLvName Sync="TRUE">dataset</mdHrLvName>
<refSysInfo>
<RefSystem>
<refSysID>
<identCode Sync="TRUE" code="4674">
</identCode>
<idCodeSpace Sync="TRUE">EPSG</idCodeSpace>
<idVersion Sync="TRUE">7.11.2</idVersion>
</refSysID>
</RefSystem>
</refSysInfo>
<spatRepInfo>
<Georect>
<cellGeo>
<CellGeoCd Sync="TRUE" value="002">
</CellGeoCd>
</cellGeo>
<numDims Sync="TRUE">2</numDims>
<tranParaAv Sync="TRUE">1</tranParaAv>
<chkPtAv Sync="TRUE">0</chkPtAv>
<cornerPts>
<pos Sync="TRUE">-61.655939 -18.090073</pos>
</cornerPts>
<cornerPts>
<pos Sync="TRUE">-61.655939 -7.310541</pos>
</cornerPts>
<cornerPts>
<pos Sync="TRUE">-50.154236 -7.310541</pos>
</cornerPts>
<cornerPts>
<pos Sync="TRUE">-50.154236 -18.090073</pos>
</cornerPts>
<centerPt>
<pos Sync="TRUE">-55.905087 -12.700307</pos>
</centerPt>
<axisDimension type="002">
<dimSize Sync="TRUE">243626</dimSize>
<dimResol>
<value Sync="TRUE" uom="Degree">0.000047</value>
</dimResol>
</axisDimension>
<axisDimension type="001">
<dimSize Sync="TRUE">238190</dimSize>
<dimResol>
<value Sync="TRUE" uom="Degree">0.000045</value>
</dimResol>
</axisDimension>
<ptInPixel>
<PixOrientCd Sync="TRUE" value="001">
</PixOrientCd>
</ptInPixel>
</Georect>
</spatRepInfo>
<eainfo>
<detailed Name="mosaico_mt_rapideye_corregistrada.img.vat">
<enttyp>
<enttypl Sync="TRUE">mosaico_mt_rapideye_corregistrada.img.vat</enttypl>
<enttypt Sync="TRUE">Table</enttypt>
<enttypc Sync="TRUE">255</enttypc>
</enttyp>
<attr>
<attrlabl Sync="TRUE">OID</attrlabl>
<attalias Sync="TRUE">OID</attalias>
<attrtype Sync="TRUE">OID</attrtype>
<attwidth Sync="TRUE">4</attwidth>
<atprecis Sync="TRUE">0</atprecis>
<attscale Sync="TRUE">0</attscale>
<attrdef Sync="TRUE">Internal feature number.</attrdef>
<attrdefs Sync="TRUE">Esri</attrdefs>
<attrdomv>
<udom Sync="TRUE">Sequential unique whole numbers that are automatically generated.</udom>
</attrdomv>
</attr>
<attr>
<attrlabl Sync="TRUE">Value</attrlabl>
<attalias Sync="TRUE">Value</attalias>
<attrtype Sync="TRUE">Integer</attrtype>
<attwidth Sync="TRUE">0</attwidth>
<atprecis Sync="TRUE">0</atprecis>
<attscale Sync="TRUE">0</attscale>
</attr>
<attr>
<attrlabl Sync="TRUE">Count</attrlabl>
<attalias Sync="TRUE">Count</attalias>
<attrtype Sync="TRUE">Double</attrtype>
<attwidth Sync="TRUE">0</attwidth>
<atprecis Sync="TRUE">0</atprecis>
<attscale Sync="TRUE">0</attscale>
</attr>
</detailed>
<detailed Name="mosaico_mt_rapideye_corregistrada.img(Layer_2).vat">
<enttyp>
<enttypl Sync="TRUE">mosaico_mt_rapideye_corregistrada.img(Layer_2).vat</enttypl>
<enttypt Sync="TRUE">Table</enttypt>
<enttypc Sync="TRUE">255</enttypc>
</enttyp>
<attr>
<attrlabl Sync="TRUE">OID</attrlabl>
<attalias Sync="TRUE">OID</attalias>
<attrtype Sync="TRUE">OID</attrtype>
<attwidth Sync="TRUE">4</attwidth>
<atprecis Sync="TRUE">0</atprecis>
<attscale Sync="TRUE">0</attscale>
<attrdef Sync="TRUE">Internal feature number.</attrdef>
<attrdefs Sync="TRUE">Esri</attrdefs>
<attrdomv>
<udom Sync="TRUE">Sequential unique whole numbers that are automatically generated.</udom>
</attrdomv>
</attr>
<attr>
<attrlabl Sync="TRUE">Value</attrlabl>
<attalias Sync="TRUE">Value</attalias>
<attrtype Sync="TRUE">Integer</attrtype>
<attwidth Sync="TRUE">0</attwidth>
<atprecis Sync="TRUE">0</atprecis>
<attscale Sync="TRUE">0</attscale>
</attr>
<attr>
<attrlabl Sync="TRUE">Count</attrlabl>
<attalias Sync="TRUE">Count</attalias>
<attrtype Sync="TRUE">Double</attrtype>
<attwidth Sync="TRUE">0</attwidth>
<atprecis Sync="TRUE">0</atprecis>
<attscale Sync="TRUE">0</attscale>
</attr>
</detailed>
<detailed Name="mosaico_mt_rapideye_corregistrada.img(Layer_3).vat">
<enttyp>
<enttypl Sync="TRUE">mosaico_mt_rapideye_corregistrada.img(Layer_3).vat</enttypl>
<enttypt Sync="TRUE">Table</enttypt>
<enttypc Sync="TRUE">255</enttypc>
</enttyp>
<attr>
<attrlabl Sync="TRUE">OID</attrlabl>
<attalias Sync="TRUE">OID</attalias>
<attrtype Sync="TRUE">OID</attrtype>
<attwidth Sync="TRUE">4</attwidth>
<atprecis Sync="TRUE">0</atprecis>
<attscale Sync="TRUE">0</attscale>
<attrdef Sync="TRUE">Internal feature number.</attrdef>
<attrdefs Sync="TRUE">Esri</attrdefs>
<attrdomv>
<udom Sync="TRUE">Sequential unique whole numbers that are automatically generated.</udom>
</attrdomv>
</attr>
<attr>
<attrlabl Sync="TRUE">Value</attrlabl>
<attalias Sync="TRUE">Value</attalias>
<attrtype Sync="TRUE">Integer</attrtype>
<attwidth Sync="TRUE">0</attwidth>
<atprecis Sync="TRUE">0</atprecis>
<attscale Sync="TRUE">0</attscale>
</attr>
<attr>
<attrlabl Sync="TRUE">Count</attrlabl>
<attalias Sync="TRUE">Count</attalias>
<attrtype Sync="TRUE">Double</attrtype>
<attwidth Sync="TRUE">0</attwidth>
<atprecis Sync="TRUE">0</atprecis>
<attscale Sync="TRUE">0</attscale>
</attr>
</detailed>
</eainfo>
<contInfo>
<ImgDesc>
<contentTyp>
<ContentTypCd Sync="TRUE" value="001">
</ContentTypCd>
</contentTyp>
<covDim>
<Band>
<dimDescrp Sync="TRUE">Layer_1</dimDescrp>
<maxVal Sync="TRUE">255.000000</maxVal>
<minVal Sync="TRUE">1.000000</minVal>
<bitsPerVal Sync="TRUE">8</bitsPerVal>
<valUnit>
<UOM type="length">
</UOM>
</valUnit>
</Band>
<Band>
<dimDescrp Sync="TRUE">Layer_2</dimDescrp>
<maxVal Sync="TRUE">255.000000</maxVal>
<minVal Sync="TRUE">1.000000</minVal>
<bitsPerVal Sync="TRUE">8</bitsPerVal>
<valUnit>
<UOM type="length">
</UOM>
</valUnit>
</Band>
<Band>
<dimDescrp Sync="TRUE">Layer_3</dimDescrp>
<maxVal Sync="TRUE">255.000000</maxVal>
<minVal Sync="TRUE">1.000000</minVal>
<bitsPerVal Sync="TRUE">8</bitsPerVal>
<valUnit>
<UOM type="length">
</UOM>
</valUnit>
</Band>
</covDim>
</ImgDesc>
</contInfo>
<mdDateSt Sync="TRUE">20151127</mdDateSt>
</metadata>
